BEGIN:VCALENDAR
VERSION:2.0
PRODID:-//Charley&#039;s Ice Cream and Grill - ECPv6.10.1.1//NONSGML v1.0//EN
CALSCALE:GREGORIAN
METHOD:PUBLISH
X-WR-CALNAME:Charley&#039;s Ice Cream and Grill
X-ORIGINAL-URL:https://charleysicecreamandgrill.com
X-WR-CALDESC:Events for Charley&#039;s Ice Cream and Grill
REFRESH-INTERVAL;VALUE=DURATION:PT1H
X-Robots-Tag:noindex
X-PUBLISHED-TTL:PT1H
BEGIN:VTIMEZONE
TZID:America/New_York
BEGIN:DAYLIGHT
TZOFFSETFROM:-0500
TZOFFSETTO:-0400
TZNAME:EDT
DTSTART:20260308T070000
END:DAYLIGHT
BEGIN:STANDARD
TZOFFSETFROM:-0400
TZOFFSETTO:-0500
TZNAME:EST
DTSTART:20261101T060000
END:STANDARD
END:VTIMEZONE
BEGIN:VEVENT
DTSTART;TZID=America/New_York:20260513T190000
DTEND;TZID=America/New_York:20260513T200000
DTSTAMP:20260419T091640
CREATED:20260402T190804Z
LAST-MODIFIED:20260413T211818Z
UID:457-1778698800-1778702400@charleysicecreamandgrill.com
SUMMARY:Event: Bingo
DESCRIPTION:Grab your friends\, bring your lucky charm\, and get ready to yell BINGO! Join us for a night full of laughs\, prizes\, and sweet treats. You won’t want to miss this—who’s feeling lucky?! 🍀
URL:https://charleysicecreamandgrill.com/event/event-bingo/
END:VEVENT
END:VCALENDAR