BEGIN:VCALENDAR
VERSION:2.0
PRODID:-//Charley&#039;s Ice Cream and Grill - ECPv6.10.1.1//NONSGML v1.0//EN
CALSCALE:GREGORIAN
METHOD:PUBLISH
X-ORIGINAL-URL:https://charleysicecreamandgrill.com
X-WR-CALDESC:Events for Charley&#039;s Ice Cream and Grill
REFRESH-INTERVAL;VALUE=DURATION:PT1H
X-Robots-Tag:noindex
X-PUBLISHED-TTL:PT1H
BEGIN:VTIMEZONE
TZID:America/New_York
BEGIN:DAYLIGHT
TZOFFSETFROM:-0500
TZOFFSETTO:-0400
TZNAME:EDT
DTSTART:20240310T070000
END:DAYLIGHT
BEGIN:STANDARD
TZOFFSETFROM:-0400
TZOFFSETTO:-0500
TZNAME:EST
DTSTART:20241103T060000
END:STANDARD
BEGIN:DAYLIGHT
TZOFFSETFROM:-0500
TZOFFSETTO:-0400
TZNAME:EDT
DTSTART:20250309T070000
END:DAYLIGHT
BEGIN:STANDARD
TZOFFSETFROM:-0400
TZOFFSETTO:-0500
TZNAME:EST
DTSTART:20251102T060000
END:STANDARD
END:VTIMEZONE
BEGIN:VEVENT
DTSTART;VALUE=DATE:20240825
DTEND;VALUE=DATE:20240826
DTSTAMP:20260419T182339
CREATED:20240828T020911Z
LAST-MODIFIED:20240828T020911Z
UID:276-1724544000-1724630399@charleysicecreamandgrill.com
SUMMARY:National Banana Split Day
DESCRIPTION:
URL:https://charleysicecreamandgrill.com/event/national-banana-split-day/
END:VEVENT
BEGIN:VEVENT
DTSTART;TZID=America/New_York:20240827T190000
DTEND;TZID=America/New_York:20240827T210000
DTSTAMP:20260419T182339
CREATED:20240512T163240Z
LAST-MODIFIED:20240512T163240Z
UID:241-1724785200-1724792400@charleysicecreamandgrill.com
SUMMARY:Live Music: Music by Monique
DESCRIPTION:
URL:https://charleysicecreamandgrill.com/event/live-music-music-by-monique-2/
LOCATION:Charley’s Ice Cream & Grill\, 14680 Lincoln Lake Ave NE\, Gowen\, MI\, 49326\, United States
END:VEVENT
BEGIN:VEVENT
DTSTART;TZID=America/New_York:20240829T180000
DTEND;TZID=America/New_York:20240829T190000
DTSTAMP:20260419T182339
CREATED:20240619T210743Z
LAST-MODIFIED:20240820T132243Z
UID:265-1724954400-1724958000@charleysicecreamandgrill.com
SUMMARY:BINGO Night!
DESCRIPTION:Join Us for Bingo Night  1st Round Winner: $5 Gift Card2nd Round Winner: $10 Gift Card3rd Round Winner: $20 Gift Card
URL:https://charleysicecreamandgrill.com/event/bingo-night-3/
LOCATION:Charley’s Ice Cream & Grill\, 14680 Lincoln Lake Ave NE\, Gowen\, MI\, 49326\, United States
END:VEVENT
BEGIN:VEVENT
DTSTART;VALUE=DATE:20240830
DTEND;VALUE=DATE:20240903
DTSTAMP:20260419T182339
CREATED:20240512T164545Z
LAST-MODIFIED:20240512T164649Z
UID:244-1724976000-1725321599@charleysicecreamandgrill.com
SUMMARY:Labor Day Weekend!
DESCRIPTION:
URL:https://charleysicecreamandgrill.com/event/labor-day-weekend/
END:VEVENT
BEGIN:VEVENT
DTSTART;TZID=America/New_York:20240830T190000
DTEND;TZID=America/New_York:20240830T210000
DTSTAMP:20260419T182339
CREATED:20240512T163321Z
LAST-MODIFIED:20240512T170555Z
UID:242-1725044400-1725051600@charleysicecreamandgrill.com
SUMMARY:Live Music: Whirlin' Winds
DESCRIPTION:
URL:https://charleysicecreamandgrill.com/event/live-music-whirlin-winds-3/
LOCATION:Charley’s Ice Cream & Grill\, 14680 Lincoln Lake Ave NE\, Gowen\, MI\, 49326\, United States
END:VEVENT
BEGIN:VEVENT
DTSTART;TZID=America/New_York:20240831T190000
DTEND;TZID=America/New_York:20240831T210000
DTSTAMP:20260419T182339
CREATED:20240512T163834Z
LAST-MODIFIED:20240512T163834Z
UID:243-1725130800-1725138000@charleysicecreamandgrill.com
SUMMARY:Live Music: 17 Degrees South
DESCRIPTION:
URL:https://charleysicecreamandgrill.com/event/live-music-17-degrees-south-4/
LOCATION:Charley’s Ice Cream & Grill\, 14680 Lincoln Lake Ave NE\, Gowen\, MI\, 49326\, United States
END:VEVENT
BEGIN:VEVENT
DTSTART;TZID=America/New_York:20240901T190000
DTEND;TZID=America/New_York:20240901T210000
DTSTAMP:20260419T182339
CREATED:20240512T164747Z
LAST-MODIFIED:20240512T170648Z
UID:246-1725217200-1725224400@charleysicecreamandgrill.com
SUMMARY:Live Music: Mason Grady
DESCRIPTION:
URL:https://charleysicecreamandgrill.com/event/live-music-mason-grady-8/
LOCATION:Charley’s Ice Cream & Grill\, 14680 Lincoln Lake Ave NE\, Gowen\, MI\, 49326\, United States
END:VEVENT
BEGIN:VEVENT
DTSTART;VALUE=DATE:20240902
DTEND;VALUE=DATE:20240903
DTSTAMP:20260419T182339
CREATED:20240512T164628Z
LAST-MODIFIED:20240512T164628Z
UID:245-1725235200-1725321599@charleysicecreamandgrill.com
SUMMARY:Labor Day
DESCRIPTION:
URL:https://charleysicecreamandgrill.com/event/labor-day/
END:VEVENT
BEGIN:VEVENT
DTSTART;TZID=America/New_York:20240902T140000
DTEND;TZID=America/New_York:20240902T160000
DTSTAMP:20260419T182339
CREATED:20240512T164843Z
LAST-MODIFIED:20240512T164843Z
UID:247-1725285600-1725292800@charleysicecreamandgrill.com
SUMMARY:Live Music: Rambling Fever
DESCRIPTION:
URL:https://charleysicecreamandgrill.com/event/live-music-rambling-fever/
LOCATION:Charley’s Ice Cream & Grill\, 14680 Lincoln Lake Ave NE\, Gowen\, MI\, 49326\, United States
END:VEVENT
BEGIN:VEVENT
DTSTART;VALUE=DATE:20240903
DTEND;VALUE=DATE:20240904
DTSTAMP:20260419T182339
CREATED:20240828T020354Z
LAST-MODIFIED:20240828T020354Z
UID:275-1725321600-1725407999@charleysicecreamandgrill.com
SUMMARY:Fall Hours Start
DESCRIPTION:Our fall season begins September 3rd! Hours subject to change\, depending on weather. \nMonday-Wednesday CLOSED\nThursday 4pm – 8pm\nFriday-Saturday 12pm – 9pm\nSunday 12pm – 8pm
URL:https://charleysicecreamandgrill.com/event/fall-hours-start/
LOCATION:Charley’s Ice Cream & Grill\, 14680 Lincoln Lake Ave NE\, Gowen\, MI\, 49326\, United States
END:VEVENT
BEGIN:VEVENT
DTSTART;TZID=America/New_York:20240907T190000
DTEND;TZID=America/New_York:20240907T210000
DTSTAMP:20260419T182339
CREATED:20240512T165445Z
LAST-MODIFIED:20240512T165445Z
UID:249-1725735600-1725742800@charleysicecreamandgrill.com
SUMMARY:Live Music: Daniel Yother
DESCRIPTION:
URL:https://charleysicecreamandgrill.com/event/live-music-daniel-yother-2/
END:VEVENT
BEGIN:VEVENT
DTSTART;TZID=America/New_York:20240914T140000
DTEND;TZID=America/New_York:20240914T160000
DTSTAMP:20260419T182339
CREATED:20240512T165543Z
LAST-MODIFIED:20240512T165543Z
UID:250-1726322400-1726329600@charleysicecreamandgrill.com
SUMMARY:Live Music: Mason Grady
DESCRIPTION:
URL:https://charleysicecreamandgrill.com/event/live-music-mason-grady-9/
LOCATION:Charley’s Ice Cream & Grill\, 14680 Lincoln Lake Ave NE\, Gowen\, MI\, 49326\, United States
END:VEVENT
BEGIN:VEVENT
DTSTART;TZID=America/New_York:20240921T140000
DTEND;TZID=America/New_York:20240921T160000
DTSTAMP:20260419T182339
CREATED:20240512T165704Z
LAST-MODIFIED:20240512T165726Z
UID:251-1726927200-1726934400@charleysicecreamandgrill.com
SUMMARY:Live Music: Music by Monique
DESCRIPTION:
URL:https://charleysicecreamandgrill.com/event/live-music-music-by-monique-4/
LOCATION:Charley’s Ice Cream & Grill\, 14680 Lincoln Lake Ave NE\, Gowen\, MI\, 49326\, United States
END:VEVENT
BEGIN:VEVENT
DTSTART;TZID=America/New_York:20240928T140000
DTEND;TZID=America/New_York:20240928T160000
DTSTAMP:20260419T182339
CREATED:20240512T165819Z
LAST-MODIFIED:20240512T165819Z
UID:252-1727532000-1727539200@charleysicecreamandgrill.com
SUMMARY:Live Music: JoJo Tango & the Dancehall Dawgs
DESCRIPTION:
URL:https://charleysicecreamandgrill.com/event/live-music-jojo-tango-the-dancehall-dawgs-2/
LOCATION:Charley’s Ice Cream & Grill\, 14680 Lincoln Lake Ave NE\, Gowen\, MI\, 49326\, United States
END:VEVENT
BEGIN:VEVENT
DTSTART;TZID=America/New_York:20250410T160000
DTEND;TZID=America/New_York:20250410T200000
DTSTAMP:20260419T182339
CREATED:20250320T214302Z
LAST-MODIFIED:20250501T081045Z
UID:294-1744300800-1744315200@charleysicecreamandgrill.com
SUMMARY:Opening Day
DESCRIPTION:
URL:https://charleysicecreamandgrill.com/event/first-day-of-the-season/
LOCATION:Charley’s Ice Cream & Grill\, 14680 Lincoln Lake Ave NE\, Gowen\, MI\, 49326\, United States
END:VEVENT
BEGIN:VEVENT
DTSTART;TZID=America/New_York:20250411T180000
DTEND;TZID=America/New_York:20250411T200000
DTSTAMP:20260419T182339
CREATED:20250320T214641Z
LAST-MODIFIED:20250320T214641Z
UID:296-1744394400-1744401600@charleysicecreamandgrill.com
SUMMARY:Live Music: Mason Grady
DESCRIPTION:We’re kicking off the year with live music! Mason Grady will be welcoming in a new season on the Charley’s stage from 6pm – 8pm.
URL:https://charleysicecreamandgrill.com/event/live-music-mason-grady-10/
END:VEVENT
BEGIN:VEVENT
DTSTART;TZID=America/New_York:20250412T140000
DTEND;TZID=America/New_York:20250412T160000
DTSTAMP:20260419T182339
CREATED:20250320T215138Z
LAST-MODIFIED:20250320T215328Z
UID:297-1744466400-1744473600@charleysicecreamandgrill.com
SUMMARY:Live Music: Stanley & Quiggle
DESCRIPTION:Join us on Saturday\, April 12th\, 2 pm-4 pm for a performance from Folk duo\, Stanley & Quiggle. This will be their first time at Charley’s! Check out a performance from them here: https://www.youtube.com/watch?v=R-XdgNTSlxs
URL:https://charleysicecreamandgrill.com/event/live-music-stanley-quiggle/
END:VEVENT
BEGIN:VEVENT
DTSTART;VALUE=DATE:20250420
DTEND;VALUE=DATE:20250421
DTSTAMP:20260419T182339
CREATED:20250501T080708Z
LAST-MODIFIED:20250501T080708Z
UID:374-1745107200-1745193599@charleysicecreamandgrill.com
SUMMARY:Easter Sunday
DESCRIPTION:
URL:https://charleysicecreamandgrill.com/event/easter-sunday/
END:VEVENT
BEGIN:VEVENT
DTSTART;VALUE=DATE:20250511
DTEND;VALUE=DATE:20250512
DTSTAMP:20260419T182339
CREATED:20250320T223217Z
LAST-MODIFIED:20250320T223217Z
UID:299-1746921600-1747007999@charleysicecreamandgrill.com
SUMMARY:Mother's Day
DESCRIPTION:
URL:https://charleysicecreamandgrill.com/event/mothers-day-2/
END:VEVENT
BEGIN:VEVENT
DTSTART;TZID=America/New_York:20250523T190000
DTEND;TZID=America/New_York:20250523T210000
DTSTAMP:20260419T182339
CREATED:20250320T223718Z
LAST-MODIFIED:20250320T223718Z
UID:300-1748026800-1748034000@charleysicecreamandgrill.com
SUMMARY:Live Music: Rhythm Masters
DESCRIPTION:Kick off the Memorial Day weekend with a local Country band\, the Rhythm Masters! This is one night you don’t want to miss!
URL:https://charleysicecreamandgrill.com/event/live-music-rhythm-masters/
LOCATION:Charley’s Ice Cream & Grill\, 14680 Lincoln Lake Ave NE\, Gowen\, MI\, 49326\, United States
END:VEVENT
BEGIN:VEVENT
DTSTART;TZID=America/New_York:20250524T190000
DTEND;TZID=America/New_York:20250524T210000
DTSTAMP:20260419T182339
CREATED:20250320T223859Z
LAST-MODIFIED:20250320T223938Z
UID:301-1748113200-1748120400@charleysicecreamandgrill.com
SUMMARY:Live Music: Country Green
DESCRIPTION:Local legends\, Country Green\, are back on the stage for Memorial Day weekend! Come check it out!
URL:https://charleysicecreamandgrill.com/event/live-music-country-green-2/
LOCATION:Charley’s Ice Cream & Grill\, 14680 Lincoln Lake Ave NE\, Gowen\, MI\, 49326\, United States
END:VEVENT
BEGIN:VEVENT
DTSTART;TZID=America/New_York:20250525T190000
DTEND;TZID=America/New_York:20250525T210000
DTSTAMP:20260419T182339
CREATED:20250320T224145Z
LAST-MODIFIED:20250320T224145Z
UID:302-1748199600-1748206800@charleysicecreamandgrill.com
SUMMARY:Live Music: Eadie Country n' Gospel Band
DESCRIPTION:One of our Charley’s favorites is back again this year for a Memorial Day celebration! You don’t wanna miss the show!
URL:https://charleysicecreamandgrill.com/event/live-music-eadie-country-n-gospel-band-2/
LOCATION:Charley’s Ice Cream & Grill\, 14680 Lincoln Lake Ave NE\, Gowen\, MI\, 49326\, United States
END:VEVENT
BEGIN:VEVENT
DTSTART;VALUE=DATE:20250526
DTEND;VALUE=DATE:20250527
DTSTAMP:20260419T182339
CREATED:20250320T223134Z
LAST-MODIFIED:20250320T223134Z
UID:298-1748217600-1748303999@charleysicecreamandgrill.com
SUMMARY:Memorial Day
DESCRIPTION:
URL:https://charleysicecreamandgrill.com/event/memorial-day-2/
LOCATION:Charley’s Ice Cream & Grill\, 14680 Lincoln Lake Ave NE\, Gowen\, MI\, 49326\, United States
END:VEVENT
BEGIN:VEVENT
DTSTART;TZID=America/New_York:20250526T190000
DTEND;TZID=America/New_York:20250526T210000
DTSTAMP:20260419T182339
CREATED:20250320T224346Z
LAST-MODIFIED:20250501T202137Z
UID:303-1748286000-1748293200@charleysicecreamandgrill.com
SUMMARY:Live Music: Larry Lowis
DESCRIPTION:Come chill with us on Memorial Day and kick back to some tunes! We’d love to see you here!
URL:https://charleysicecreamandgrill.com/event/live-music-larry-lois/
LOCATION:Charley’s Ice Cream & Grill\, 14680 Lincoln Lake Ave NE\, Gowen\, MI\, 49326\, United States
END:VEVENT
BEGIN:VEVENT
DTSTART;TZID=America/New_York:20250527T190000
DTEND;TZID=America/New_York:20250527T210000
DTSTAMP:20260419T182339
CREATED:20250320T224649Z
LAST-MODIFIED:20250320T224649Z
UID:304-1748372400-1748379600@charleysicecreamandgrill.com
SUMMARY:Live Music: Mason Grady
DESCRIPTION:Wanna cool off after the holiday heat? Grab a tasty treat and come see Mason Grady performing at Charley’s from 7 pm-9 pm.
URL:https://charleysicecreamandgrill.com/event/live-music-mason-grady-11/
LOCATION:Charley’s Ice Cream & Grill\, 14680 Lincoln Lake Ave NE\, Gowen\, MI\, 49326\, United States
END:VEVENT
BEGIN:VEVENT
DTSTART;TZID=America/New_York:20250531T190000
DTEND;TZID=America/New_York:20250531T210000
DTSTAMP:20260419T182339
CREATED:20250320T225048Z
LAST-MODIFIED:20250320T225048Z
UID:305-1748718000-1748725200@charleysicecreamandgrill.com
SUMMARY:Live Music: Bob & Tally and The Turn-Up Greens
DESCRIPTION:No stranger to the Charley’s Stage\, Bob & Tally are back! Head over this weekend to catch them from 7 pm-9 pm Saturday night!
URL:https://charleysicecreamandgrill.com/event/live-music-bob-tally-and-the-turn-up-greens/
LOCATION:Charley’s Ice Cream & Grill\, 14680 Lincoln Lake Ave NE\, Gowen\, MI\, 49326\, United States
END:VEVENT
BEGIN:VEVENT
DTSTART;TZID=America/New_York:20250603T190000
DTEND;TZID=America/New_York:20250603T210000
DTSTAMP:20260419T182339
CREATED:20250320T225455Z
LAST-MODIFIED:20250320T225519Z
UID:306-1748977200-1748984400@charleysicecreamandgrill.com
SUMMARY:Live Music: 17 Degrees South
DESCRIPTION:Check out local favorite\, husband-and-wife duo\, 17 Degrees South\, this Tuesday night at Charley’s!
URL:https://charleysicecreamandgrill.com/event/live-music-17-degrees-south-5/
LOCATION:Charley’s Ice Cream & Grill\, 14680 Lincoln Lake Ave NE\, Gowen\, MI\, 49326\, United States
END:VEVENT
BEGIN:VEVENT
DTSTART;TZID=America/New_York:20250607T190000
DTEND;TZID=America/New_York:20250607T210000
DTSTAMP:20260419T182339
CREATED:20250320T225952Z
LAST-MODIFIED:20250530T204607Z
UID:307-1749322800-1749330000@charleysicecreamandgrill.com
SUMMARY:Live Music: Daniel Hicks
DESCRIPTION:Daniel Hicks is bringing his piano back to Charley’s. Bring a chair and enjoy the tunes!
URL:https://charleysicecreamandgrill.com/event/live-music-daniel-hicks-2/
LOCATION:Charley’s Ice Cream & Grill\, 14680 Lincoln Lake Ave NE\, Gowen\, MI\, 49326\, United States
END:VEVENT
BEGIN:VEVENT
DTSTART;TZID=America/New_York:20250609T180000
DTEND;TZID=America/New_York:20250609T190000
DTSTAMP:20260419T182339
CREATED:20250320T231834Z
LAST-MODIFIED:20250320T232015Z
UID:308-1749492000-1749495600@charleysicecreamandgrill.com
SUMMARY:'Date Night\, Comedy Night': A Stand-Up Show with Andy Beningo
DESCRIPTION:Bring your date (or your best friend!) and swing by for an extra-special comedy show from stand-up comedian\, Andy Beningo! Top off the night out with our ‘Mint to Be’ Sundae\, made specially for this event! \nThe show is clean but\, the suggested audience is 18+. \nCheck out some of Andy’s content below:
URL:https://charleysicecreamandgrill.com/event/date-night-comedy-night-a-stand-up-show-with-andy-beningo/
LOCATION:Charley’s Ice Cream & Grill\, 14680 Lincoln Lake Ave NE\, Gowen\, MI\, 49326\, United States
END:VEVENT
BEGIN:VEVENT
DTSTART;TZID=America/New_York:20250610T190000
DTEND;TZID=America/New_York:20250610T210000
DTSTAMP:20260419T182339
CREATED:20250320T233201Z
LAST-MODIFIED:20250320T233201Z
UID:309-1749582000-1749589200@charleysicecreamandgrill.com
SUMMARY:Live Music: Panda Pete
DESCRIPTION:Welcome a newcomer to the Charley’s stage! “Panda Pete” is a singer-songwriter with genres for all ages!
URL:https://charleysicecreamandgrill.com/event/live-music-panda-pete/
LOCATION:Charley’s Ice Cream & Grill\, 14680 Lincoln Lake Ave NE\, Gowen\, MI\, 49326\, United States
END:VEVENT
END:VCALENDAR