BEGIN:VCALENDAR
VERSION:2.0
PRODID:-//Charley&#039;s Ice Cream and Grill - ECPv6.10.1.1//NONSGML v1.0//EN
CALSCALE:GREGORIAN
METHOD:PUBLISH
X-WR-CALNAME:Charley&#039;s Ice Cream and Grill
X-ORIGINAL-URL:https://charleysicecreamandgrill.com
X-WR-CALDESC:Events for Charley&#039;s Ice Cream and Grill
REFRESH-INTERVAL;VALUE=DURATION:PT1H
X-Robots-Tag:noindex
X-PUBLISHED-TTL:PT1H
BEGIN:VTIMEZONE
TZID:America/New_York
BEGIN:DAYLIGHT
TZOFFSETFROM:-0500
TZOFFSETTO:-0400
TZNAME:EDT
DTSTART:20240310T070000
END:DAYLIGHT
BEGIN:STANDARD
TZOFFSETFROM:-0400
TZOFFSETTO:-0500
TZNAME:EST
DTSTART:20241103T060000
END:STANDARD
END:VTIMEZONE
BEGIN:VEVENT
DTSTART;TZID=America/New_York:20240921T140000
DTEND;TZID=America/New_York:20240921T160000
DTSTAMP:20260425T211032
CREATED:20240512T165704Z
LAST-MODIFIED:20240512T165726Z
UID:251-1726927200-1726934400@charleysicecreamandgrill.com
SUMMARY:Live Music: Music by Monique
DESCRIPTION:
URL:https://charleysicecreamandgrill.com/event/live-music-music-by-monique-4/
LOCATION:Charley’s Ice Cream & Grill\, 14680 Lincoln Lake Ave NE\, Gowen\, MI\, 49326\, United States
END:VEVENT
BEGIN:VEVENT
DTSTART;TZID=America/New_York:20240914T140000
DTEND;TZID=America/New_York:20240914T160000
DTSTAMP:20260425T211032
CREATED:20240512T165543Z
LAST-MODIFIED:20240512T165543Z
UID:250-1726322400-1726329600@charleysicecreamandgrill.com
SUMMARY:Live Music: Mason Grady
DESCRIPTION:
URL:https://charleysicecreamandgrill.com/event/live-music-mason-grady-9/
LOCATION:Charley’s Ice Cream & Grill\, 14680 Lincoln Lake Ave NE\, Gowen\, MI\, 49326\, United States
END:VEVENT
BEGIN:VEVENT
DTSTART;TZID=America/New_York:20240907T190000
DTEND;TZID=America/New_York:20240907T210000
DTSTAMP:20260425T211032
CREATED:20240512T165445Z
LAST-MODIFIED:20240512T165445Z
UID:249-1725735600-1725742800@charleysicecreamandgrill.com
SUMMARY:Live Music: Daniel Yother
DESCRIPTION:
URL:https://charleysicecreamandgrill.com/event/live-music-daniel-yother-2/
LOCATION:MI
END:VEVENT
BEGIN:VEVENT
DTSTART;VALUE=DATE:20240903
DTEND;VALUE=DATE:20240904
DTSTAMP:20260425T211032
CREATED:20240828T020354Z
LAST-MODIFIED:20240828T020354Z
UID:275-1725321600-1725407999@charleysicecreamandgrill.com
SUMMARY:Fall Hours Start
DESCRIPTION:Our fall season begins September 3rd! Hours subject to change\, depending on weather. \nMonday-Wednesday CLOSED\nThursday 4pm – 8pm\nFriday-Saturday 12pm – 9pm\nSunday 12pm – 8pm
URL:https://charleysicecreamandgrill.com/event/fall-hours-start/
LOCATION:Charley’s Ice Cream & Grill\, 14680 Lincoln Lake Ave NE\, Gowen\, MI\, 49326\, United States
END:VEVENT
BEGIN:VEVENT
DTSTART;TZID=America/New_York:20240902T140000
DTEND;TZID=America/New_York:20240902T160000
DTSTAMP:20260425T211032
CREATED:20240512T164843Z
LAST-MODIFIED:20240512T164843Z
UID:247-1725285600-1725292800@charleysicecreamandgrill.com
SUMMARY:Live Music: Rambling Fever
DESCRIPTION:
URL:https://charleysicecreamandgrill.com/event/live-music-rambling-fever/
LOCATION:Charley’s Ice Cream & Grill\, 14680 Lincoln Lake Ave NE\, Gowen\, MI\, 49326\, United States
END:VEVENT
BEGIN:VEVENT
DTSTART;VALUE=DATE:20240902
DTEND;VALUE=DATE:20240903
DTSTAMP:20260425T211032
CREATED:20240512T164628Z
LAST-MODIFIED:20240512T164628Z
UID:245-1725235200-1725321599@charleysicecreamandgrill.com
SUMMARY:Labor Day
DESCRIPTION:
URL:https://charleysicecreamandgrill.com/event/labor-day/
LOCATION:MI
END:VEVENT
BEGIN:VEVENT
DTSTART;TZID=America/New_York:20240901T190000
DTEND;TZID=America/New_York:20240901T210000
DTSTAMP:20260425T211032
CREATED:20240512T164747Z
LAST-MODIFIED:20240512T170648Z
UID:246-1725217200-1725224400@charleysicecreamandgrill.com
SUMMARY:Live Music: Mason Grady
DESCRIPTION:
URL:https://charleysicecreamandgrill.com/event/live-music-mason-grady-8/
LOCATION:Charley’s Ice Cream & Grill\, 14680 Lincoln Lake Ave NE\, Gowen\, MI\, 49326\, United States
END:VEVENT
BEGIN:VEVENT
DTSTART;TZID=America/New_York:20240831T190000
DTEND;TZID=America/New_York:20240831T210000
DTSTAMP:20260425T211032
CREATED:20240512T163834Z
LAST-MODIFIED:20240512T163834Z
UID:243-1725130800-1725138000@charleysicecreamandgrill.com
SUMMARY:Live Music: 17 Degrees South
DESCRIPTION:
URL:https://charleysicecreamandgrill.com/event/live-music-17-degrees-south-4/
LOCATION:Charley’s Ice Cream & Grill\, 14680 Lincoln Lake Ave NE\, Gowen\, MI\, 49326\, United States
END:VEVENT
BEGIN:VEVENT
DTSTART;TZID=America/New_York:20240830T190000
DTEND;TZID=America/New_York:20240830T210000
DTSTAMP:20260425T211032
CREATED:20240512T163321Z
LAST-MODIFIED:20240512T170555Z
UID:242-1725044400-1725051600@charleysicecreamandgrill.com
SUMMARY:Live Music: Whirlin' Winds
DESCRIPTION:
URL:https://charleysicecreamandgrill.com/event/live-music-whirlin-winds-3/
LOCATION:Charley’s Ice Cream & Grill\, 14680 Lincoln Lake Ave NE\, Gowen\, MI\, 49326\, United States
END:VEVENT
BEGIN:VEVENT
DTSTART;VALUE=DATE:20240830
DTEND;VALUE=DATE:20240903
DTSTAMP:20260425T211032
CREATED:20240512T164545Z
LAST-MODIFIED:20240512T164649Z
UID:244-1724976000-1725321599@charleysicecreamandgrill.com
SUMMARY:Labor Day Weekend!
DESCRIPTION:
URL:https://charleysicecreamandgrill.com/event/labor-day-weekend/
LOCATION:MI
END:VEVENT
BEGIN:VEVENT
DTSTART;TZID=America/New_York:20240829T180000
DTEND;TZID=America/New_York:20240829T190000
DTSTAMP:20260425T211032
CREATED:20240619T210743Z
LAST-MODIFIED:20240820T132243Z
UID:265-1724954400-1724958000@charleysicecreamandgrill.com
SUMMARY:BINGO Night!
DESCRIPTION:Join Us for Bingo Night  1st Round Winner: $5 Gift Card2nd Round Winner: $10 Gift Card3rd Round Winner: $20 Gift Card
URL:https://charleysicecreamandgrill.com/event/bingo-night-3/
LOCATION:Charley’s Ice Cream & Grill\, 14680 Lincoln Lake Ave NE\, Gowen\, MI\, 49326\, United States
END:VEVENT
BEGIN:VEVENT
DTSTART;TZID=America/New_York:20240827T190000
DTEND;TZID=America/New_York:20240827T210000
DTSTAMP:20260425T211032
CREATED:20240512T163240Z
LAST-MODIFIED:20240512T163240Z
UID:241-1724785200-1724792400@charleysicecreamandgrill.com
SUMMARY:Live Music: Music by Monique
DESCRIPTION:
URL:https://charleysicecreamandgrill.com/event/live-music-music-by-monique-2/
LOCATION:Charley’s Ice Cream & Grill\, 14680 Lincoln Lake Ave NE\, Gowen\, MI\, 49326\, United States
END:VEVENT
BEGIN:VEVENT
DTSTART;VALUE=DATE:20240825
DTEND;VALUE=DATE:20240826
DTSTAMP:20260425T211032
CREATED:20240828T020911Z
LAST-MODIFIED:20240828T020911Z
UID:276-1724544000-1724630399@charleysicecreamandgrill.com
SUMMARY:National Banana Split Day
DESCRIPTION:
URL:https://charleysicecreamandgrill.com/event/national-banana-split-day/
LOCATION:MI
END:VEVENT
BEGIN:VEVENT
DTSTART;TZID=America/New_York:20240824T190000
DTEND;TZID=America/New_York:20240824T210000
DTSTAMP:20260425T211032
CREATED:20240512T163015Z
LAST-MODIFIED:20240512T163015Z
UID:239-1724526000-1724533200@charleysicecreamandgrill.com
SUMMARY:Live Music: Mason Grady
DESCRIPTION:
URL:https://charleysicecreamandgrill.com/event/live-music-mason-grady-7/
LOCATION:Charley’s Ice Cream & Grill\, 14680 Lincoln Lake Ave NE\, Gowen\, MI\, 49326\, United States
END:VEVENT
BEGIN:VEVENT
DTSTART;TZID=America/New_York:20240820T190000
DTEND;TZID=America/New_York:20240820T210000
DTSTAMP:20260425T211032
CREATED:20240512T163133Z
LAST-MODIFIED:20240719T192754Z
UID:240-1724180400-1724187600@charleysicecreamandgrill.com
SUMMARY:Live Music: Sammy & the Drifters
DESCRIPTION:
URL:https://charleysicecreamandgrill.com/event/live-music-tenderfoot-3/
LOCATION:Charley’s Ice Cream & Grill\, 14680 Lincoln Lake Ave NE\, Gowen\, MI\, 49326\, United States
END:VEVENT
BEGIN:VEVENT
DTSTART;TZID=America/New_York:20240817T190000
DTEND;TZID=America/New_York:20240817T210000
DTSTAMP:20260425T211032
CREATED:20240512T162849Z
LAST-MODIFIED:20240512T162849Z
UID:237-1723921200-1723928400@charleysicecreamandgrill.com
SUMMARY:Live Music: JoJo Tango & the Dancehall Dawgs
DESCRIPTION:
URL:https://charleysicecreamandgrill.com/event/live-music-jojo-tango-the-dancehall-dawgs/
LOCATION:Charley’s Ice Cream & Grill\, 14680 Lincoln Lake Ave NE\, Gowen\, MI\, 49326\, United States
END:VEVENT
BEGIN:VEVENT
DTSTART;TZID=America/New_York:20240813T190000
DTEND;TZID=America/New_York:20240813T210000
DTSTAMP:20260425T211032
CREATED:20240512T162749Z
LAST-MODIFIED:20240512T170341Z
UID:236-1723575600-1723582800@charleysicecreamandgrill.com
SUMMARY:Live Music: B&B Country
DESCRIPTION:
URL:https://charleysicecreamandgrill.com/event/live-music-bb-country-3/
LOCATION:Charley’s Ice Cream & Grill\, 14680 Lincoln Lake Ave NE\, Gowen\, MI\, 49326\, United States
END:VEVENT
BEGIN:VEVENT
DTSTART;TZID=America/New_York:20240810T190000
DTEND;TZID=America/New_York:20240810T210000
DTSTAMP:20260425T211032
CREATED:20240512T162644Z
LAST-MODIFIED:20240512T162644Z
UID:234-1723316400-1723323600@charleysicecreamandgrill.com
SUMMARY:Live Music: Country Green
DESCRIPTION:
URL:https://charleysicecreamandgrill.com/event/live-music-country-green/
LOCATION:Charley’s Ice Cream & Grill\, 14680 Lincoln Lake Ave NE\, Gowen\, MI\, 49326\, United States
END:VEVENT
BEGIN:VEVENT
DTSTART;TZID=America/New_York:20240806T190000
DTEND;TZID=America/New_York:20240806T210000
DTSTAMP:20260425T211032
CREATED:20240512T143531Z
LAST-MODIFIED:20240512T143531Z
UID:233-1722970800-1722978000@charleysicecreamandgrill.com
SUMMARY:Live Music: Mason Grady
DESCRIPTION:
URL:https://charleysicecreamandgrill.com/event/live-music-mason-grady-6/
LOCATION:Charley’s Ice Cream & Grill\, 14680 Lincoln Lake Ave NE\, Gowen\, MI\, 49326\, United States
END:VEVENT
BEGIN:VEVENT
DTSTART;TZID=America/New_York:20240803T190000
DTEND;TZID=America/New_York:20240803T210000
DTSTAMP:20260425T211032
CREATED:20240719T193024Z
LAST-MODIFIED:20240719T193024Z
UID:271-1722711600-1722718800@charleysicecreamandgrill.com
SUMMARY:Live Music: Daniel Yother
DESCRIPTION:
URL:https://charleysicecreamandgrill.com/event/live-music-daniel-yother-3/
LOCATION:Charley’s Ice Cream & Grill\, 14680 Lincoln Lake Ave NE\, Gowen\, MI\, 49326\, United States
END:VEVENT
BEGIN:VEVENT
DTSTART;TZID=America/New_York:20240731T190000
DTEND;TZID=America/New_York:20240731T200000
DTSTAMP:20260425T211032
CREATED:20240722T223436Z
LAST-MODIFIED:20240722T223436Z
UID:272-1722452400-1722456000@charleysicecreamandgrill.com
SUMMARY:Live Music: David Wyatt
DESCRIPTION:
URL:https://charleysicecreamandgrill.com/event/live-music-david-wyatt/
LOCATION:Charley’s Ice Cream & Grill\, 14680 Lincoln Lake Ave NE\, Gowen\, MI\, 49326\, United States
END:VEVENT
BEGIN:VEVENT
DTSTART;TZID=America/New_York:20240730T190000
DTEND;TZID=America/New_York:20240730T210000
DTSTAMP:20260425T211032
CREATED:20240512T143401Z
LAST-MODIFIED:20240512T143401Z
UID:231-1722366000-1722373200@charleysicecreamandgrill.com
SUMMARY:Live Music: Skeeter
DESCRIPTION:
URL:https://charleysicecreamandgrill.com/event/live-music-skeeter/
LOCATION:Charley’s Ice Cream & Grill\, 14680 Lincoln Lake Ave NE\, Gowen\, MI\, 49326\, United States
END:VEVENT
BEGIN:VEVENT
DTSTART;TZID=America/New_York:20240727T190000
DTEND;TZID=America/New_York:20240727T210000
DTSTAMP:20260425T211032
CREATED:20240512T143318Z
LAST-MODIFIED:20240512T143318Z
UID:230-1722106800-1722114000@charleysicecreamandgrill.com
SUMMARY:Live Music: Music by Monique
DESCRIPTION:
URL:https://charleysicecreamandgrill.com/event/live-music-music-by-monique/
LOCATION:Charley’s Ice Cream & Grill\, 14680 Lincoln Lake Ave NE\, Gowen\, MI\, 49326\, United States
END:VEVENT
BEGIN:VEVENT
DTSTART;TZID=America/New_York:20240725T190000
DTEND;TZID=America/New_York:20240725T200000
DTSTAMP:20260425T211032
CREATED:20240619T210504Z
LAST-MODIFIED:20240619T210504Z
UID:264-1721934000-1721937600@charleysicecreamandgrill.com
SUMMARY:BINGO Night!
DESCRIPTION:Join Us for Bingo Night  1st Round Winner: $10 Gift Card2nd Round Winner: $15 Gift Card3rd Round Winner: $20 Gift Card
URL:https://charleysicecreamandgrill.com/event/bingo-night-2/
LOCATION:Charley’s Ice Cream & Grill\, 14680 Lincoln Lake Ave NE\, Gowen\, MI\, 49326\, United States
END:VEVENT
BEGIN:VEVENT
DTSTART;TZID=America/New_York:20240723T190000
DTEND;TZID=America/New_York:20240723T210000
DTSTAMP:20260425T211032
CREATED:20240512T143123Z
LAST-MODIFIED:20240512T143123Z
UID:229-1721761200-1721768400@charleysicecreamandgrill.com
SUMMARY:Live Music: Mason Grady
DESCRIPTION:
URL:https://charleysicecreamandgrill.com/event/live-music-mason-grady-5/
LOCATION:Charley’s Ice Cream & Grill\, 14680 Lincoln Lake Ave NE\, Gowen\, MI\, 49326\, United States
END:VEVENT
BEGIN:VEVENT
DTSTART;VALUE=DATE:20240721
DTEND;VALUE=DATE:20240722
DTSTAMP:20260425T211032
CREATED:20240828T021106Z
LAST-MODIFIED:20240828T021106Z
UID:277-1721520000-1721606399@charleysicecreamandgrill.com
SUMMARY:National Ice Cream Day
DESCRIPTION:
URL:https://charleysicecreamandgrill.com/event/national-ice-cream-day/
LOCATION:Charley’s Ice Cream & Grill\, 14680 Lincoln Lake Ave NE\, Gowen\, MI\, 49326\, United States
END:VEVENT
BEGIN:VEVENT
DTSTART;TZID=America/New_York:20240720T190000
DTEND;TZID=America/New_York:20240720T210000
DTSTAMP:20260425T211032
CREATED:20240512T143034Z
LAST-MODIFIED:20240512T143034Z
UID:228-1721502000-1721509200@charleysicecreamandgrill.com
SUMMARY:Live Music: Yacht Rock
DESCRIPTION:
URL:https://charleysicecreamandgrill.com/event/live-music-yacht-rock-4/
LOCATION:Charley’s Ice Cream & Grill\, 14680 Lincoln Lake Ave NE\, Gowen\, MI\, 49326\, United States
END:VEVENT
BEGIN:VEVENT
DTSTART;TZID=America/New_York:20240718T180000
DTEND;TZID=America/New_York:20240718T190000
DTSTAMP:20260425T211032
CREATED:20240523T040726Z
LAST-MODIFIED:20240523T040726Z
UID:255-1721325600-1721329200@charleysicecreamandgrill.com
SUMMARY:Magician Show @ Charley's!
DESCRIPTION:Join us for a night of magical fun with Magic by Thomas! Be prepared to be amazed at this show that will thrill guests of all ages! \nCheck him out HERE
URL:https://charleysicecreamandgrill.com/event/magician-show-charleys/
LOCATION:Charley’s Ice Cream & Grill\, 14680 Lincoln Lake Ave NE\, Gowen\, MI\, 49326\, United States
END:VEVENT
BEGIN:VEVENT
DTSTART;TZID=America/New_York:20240716T190000
DTEND;TZID=America/New_York:20240716T210000
DTSTAMP:20260425T211032
CREATED:20240512T142922Z
LAST-MODIFIED:20240512T142922Z
UID:227-1721156400-1721163600@charleysicecreamandgrill.com
SUMMARY:Live Music: Eadie Country & Gospel Band
DESCRIPTION:
URL:https://charleysicecreamandgrill.com/event/live-music-eadie-country-gospel-band/
LOCATION:Charley’s Ice Cream & Grill\, 14680 Lincoln Lake Ave NE\, Gowen\, MI\, 49326\, United States
END:VEVENT
BEGIN:VEVENT
DTSTART;TZID=America/New_York:20240713T190000
DTEND;TZID=America/New_York:20240713T210000
DTSTAMP:20260425T211032
CREATED:20240512T142827Z
LAST-MODIFIED:20240512T142827Z
UID:226-1720897200-1720904400@charleysicecreamandgrill.com
SUMMARY:Live Music: Sammy & The Drifters
DESCRIPTION:
URL:https://charleysicecreamandgrill.com/event/live-music-sammy-the-drifters-2/
LOCATION:Charley’s Ice Cream & Grill\, 14680 Lincoln Lake Ave NE\, Gowen\, MI\, 49326\, United States
END:VEVENT
END:VCALENDAR